BEGIN:VCALENDAR
VERSION:2.0
PRODID:-//Digijeunes - ECPv6.13.2.1//NONSGML v1.0//EN
CALSCALE:GREGORIAN
METHOD:PUBLISH
X-WR-CALNAME:Digijeunes
X-ORIGINAL-URL:https://digijeunes.com
X-WR-CALDESC:Events for Digijeunes
REFRESH-INTERVAL;VALUE=DURATION:PT1H
X-Robots-Tag:noindex
X-PUBLISHED-TTL:PT1H
BEGIN:VTIMEZONE
TZID:Europe/Brussels
BEGIN:DAYLIGHT
TZOFFSETFROM:+0100
TZOFFSETTO:+0200
TZNAME:CEST
DTSTART:20210328T010000
END:DAYLIGHT
BEGIN:STANDARD
TZOFFSETFROM:+0200
TZOFFSETTO:+0100
TZNAME:CET
DTSTART:20211031T010000
END:STANDARD
END:VTIMEZONE
BEGIN:VEVENT
DTSTART;VALUE=DATE:20210705
DTEND;VALUE=DATE:20210717
DTSTAMP:20260421T120025
CREATED:20210428T185544Z
LAST-MODIFIED:20210428T185544Z
UID:5536-1625443200-1626479999@digijeunes.com
SUMMARY:Digital Heroes: Programmation
DESCRIPTION:Apprends à créer tes propres applications pour smartphone à travers des logiciels de codage visuel. \nLes programmes auront lieu au sein de la Small Academy\, à Bucarest. Pour chaque séjour\, le groupe de participants se composera de 16 personnes\, jeunes âgés entre 14 et 25 ans. \nCliquez ici pour en savoir plus
URL:https://digijeunes.com/event/digital-heroes-programmation/
LOCATION:Small Academy\, Bucharest\, Romania
CATEGORIES:Digital Heroes
ATTACH;FMTTYPE=image/png:https://digijeunes.com/wp-content/uploads/2021/04/6.png
END:VEVENT
BEGIN:VEVENT
DTSTART;VALUE=DATE:20210705
DTEND;VALUE=DATE:20210717
DTSTAMP:20260421T120025
CREATED:20210428T185810Z
LAST-MODIFIED:20210428T185810Z
UID:5539-1625443200-1626479999@digijeunes.com
SUMMARY:Digital Heroes: Réalité augmentée et réalité virtuelle
DESCRIPTION:Deux semaines au sein de la Small Academy\, à Bucarest. Pour chaque séjour\, le groupe de participants se composera de 16 personnes\, jeunes âgés entre 14 et 25 ans. \nCliquez ici pour en savoir plus \nRéalité augmentée et réalité virtuelle: Les techniques de la réalité augmentée et de la réalité virtuelle nous permettent de plonger dans des univers parallèles\, à la croisée entre le réel et l’imaginaire. Vous allez apprendre les bases de la conception assistée par ordinateur dans le cadre du développement d’applications de RA et RV\, pour en suite produire une exposition numérique à l’aide de ces deux techniques.
URL:https://digijeunes.com/event/digital-heroes-realite-augmentee-et-realite-virtuelle/
LOCATION:Small Academy\, Bucharest\, Romania
CATEGORIES:Digital Heroes
ATTACH;FMTTYPE=image/png:https://digijeunes.com/wp-content/uploads/2021/04/6.png
END:VEVENT
END:VCALENDAR